BEGIN:VCALENDAR
VERSION:2.0
PRODID:-//Illinois State Archaeological Society - ECPv6.15.20//NONSGML v1.0//EN
CALSCALE:GREGORIAN
METHOD:PUBLISH
X-WR-CALNAME:Illinois State Archaeological Society
X-ORIGINAL-URL:https://illinoisstatearchaeologicalsociety.com
X-WR-CALDESC:Events for Illinois State Archaeological Society
REFRESH-INTERVAL;VALUE=DURATION:PT1H
X-Robots-Tag:noindex
X-PUBLISHED-TTL:PT1H
BEGIN:VTIMEZONE
TZID:America/Chicago
BEGIN:DAYLIGHT
TZOFFSETFROM:-0600
TZOFFSETTO:-0500
TZNAME:CDT
DTSTART:20250309T080000
END:DAYLIGHT
BEGIN:STANDARD
TZOFFSETFROM:-0500
TZOFFSETTO:-0600
TZNAME:CST
DTSTART:20251102T070000
END:STANDARD
BEGIN:DAYLIGHT
TZOFFSETFROM:-0600
TZOFFSETTO:-0500
TZNAME:CDT
DTSTART:20260308T080000
END:DAYLIGHT
BEGIN:STANDARD
TZOFFSETFROM:-0500
TZOFFSETTO:-0600
TZNAME:CST
DTSTART:20261101T070000
END:STANDARD
BEGIN:DAYLIGHT
TZOFFSETFROM:-0600
TZOFFSETTO:-0500
TZNAME:CDT
DTSTART:20270314T080000
END:DAYLIGHT
BEGIN:STANDARD
TZOFFSETFROM:-0500
TZOFFSETTO:-0600
TZNAME:CST
DTSTART:20271107T070000
END:STANDARD
END:VTIMEZONE
BEGIN:VTIMEZONE
TZID:America/Chicago
BEGIN:DAYLIGHT
TZOFFSETFROM:-0600
TZOFFSETTO:-0500
TZNAME:CDT
DTSTART:20250309T080000
END:DAYLIGHT
BEGIN:STANDARD
TZOFFSETFROM:-0500
TZOFFSETTO:-0600
TZNAME:CST
DTSTART:20251102T070000
END:STANDARD
BEGIN:DAYLIGHT
TZOFFSETFROM:-0600
TZOFFSETTO:-0500
TZNAME:CDT
DTSTART:20260308T080000
END:DAYLIGHT
BEGIN:STANDARD
TZOFFSETFROM:-0500
TZOFFSETTO:-0600
TZNAME:CST
DTSTART:20261101T070000
END:STANDARD
BEGIN:DAYLIGHT
TZOFFSETFROM:-0600
TZOFFSETTO:-0500
TZNAME:CDT
DTSTART:20270314T080000
END:DAYLIGHT
BEGIN:STANDARD
TZOFFSETFROM:-0500
TZOFFSETTO:-0600
TZNAME:CST
DTSTART:20271107T070000
END:STANDARD
END:VTIMEZONE
BEGIN:VEVENT
DTSTART;TZID=America/Chicago:20260815T080000
DTEND;TZID=America/Chicago:20260815T150000
DTSTAMP:20260421T202118
CREATED:20221121T060038Z
LAST-MODIFIED:20251117T082458Z
UID:458-1786780800-1786806000@illinoisstatearchaeologicalsociety.com
SUMMARY:Illinois River Valley Indian Artifact Show
DESCRIPTION:A great show located in Central IL featuring many unique and amazing displays from personal finds to some of the greatest examples ever found\, free artifact identification and appraisals are available\, and admission is free. Please contact show hosts \nLarry Johnson (217) 491-1582 or Josh Gerecke (309) 336-1107
URL:https://illinoisstatearchaeologicalsociety.com/event/illinois-river-valley-indian-artifact-show-2/
LOCATION:American Legion Post 279\, 903 West Superior Ave\, Jacksonville\, IL\, 62650\, United States
END:VEVENT
BEGIN:VEVENT
DTSTART;TZID=America/Chicago:20260712T080000
DTEND;TZID=America/Chicago:20260712T150000
DTSTAMP:20260421T202118
CREATED:20221121T055636Z
LAST-MODIFIED:20251117T082625Z
UID:455-1783843200-1783868400@illinoisstatearchaeologicalsociety.com
SUMMARY:Starved Rock Artifact Show
DESCRIPTION:An incredible show located right by one of Illinois most popular state park’s. Set up is invitation only and from 6:30AM- 8:00 AM  Sunday July 12th Free admission and food will be available on site. \nContact show hosts Scott Carruthers (815) 252-1322 \nOr Jeff Hipskind (563) 357-2918
URL:https://illinoisstatearchaeologicalsociety.com/event/starved-rock-artifact-show-2/
LOCATION:Grand Bear Resort\, 2643 N. Route 178\, Utica\, IL\, 61373\, United States
END:VEVENT
BEGIN:VEVENT
DTSTART;TZID=America/Chicago:20260509T080000
DTEND;TZID=America/Chicago:20260509T140000
DTSTAMP:20260421T202118
CREATED:20240115T072951Z
LAST-MODIFIED:20251117T082724Z
UID:585-1778313600-1778335200@illinoisstatearchaeologicalsociety.com
SUMMARY:Mount Vernon Show
DESCRIPTION:A great Show in Mount Vernon IL at the double tree hotel. 75 tables of great Prehistoric American artifacts! \nContact Jeff Becker for Information (618) 830-9321
URL:https://illinoisstatearchaeologicalsociety.com/event/mount-vernon-show/
END:VEVENT
BEGIN:VEVENT
DTSTART;TZID=America/Chicago:20260327T150000
DTEND;TZID=America/Chicago:20260329T140000
DTSTAMP:20260421T202118
CREATED:20221031T154617Z
LAST-MODIFIED:20251117T082833Z
UID:393-1774623600-1774792800@illinoisstatearchaeologicalsociety.com
SUMMARY:37th Annual Collinsville Illinois Prehistoric Artifact Show
DESCRIPTION:The 39th Annual Collinsville show one of the biggest show in the country co sponsored with GIRS. The show is certainly one of the best as well. All Dealers and exhibitors MUST have and invitation to set up. There is a 5 dollar admission fee. Only authentic Prehistoric or Pre- 1900 Historic Native North American Artifacts may be displayed or sold. For information contact show host Nick Gatses at (630) 824-8902
URL:https://illinoisstatearchaeologicalsociety.com/event/36th-annual-collinsville-illinois-prehistoric-artifact-show/
LOCATION:Gateway Center\, 1 Gateway drive\, Collinsville\, IL\, United States
END:VEVENT
END:VCALENDAR