BEGIN:VCALENDAR
VERSION:2.0
PRODID:-//Illinois State Archaeological Society - ECPv6.15.20//NONSGML v1.0//EN
CALSCALE:GREGORIAN
METHOD:PUBLISH
X-ORIGINAL-URL:https://illinoisstatearchaeologicalsociety.com
X-WR-CALDESC:Events for Illinois State Archaeological Society
REFRESH-INTERVAL;VALUE=DURATION:PT1H
X-Robots-Tag:noindex
X-PUBLISHED-TTL:PT1H
BEGIN:VTIMEZONE
TZID:America/Chicago
BEGIN:DAYLIGHT
TZOFFSETFROM:-0600
TZOFFSETTO:-0500
TZNAME:CDT
DTSTART:20250309T080000
END:DAYLIGHT
BEGIN:STANDARD
TZOFFSETFROM:-0500
TZOFFSETTO:-0600
TZNAME:CST
DTSTART:20251102T070000
END:STANDARD
BEGIN:DAYLIGHT
TZOFFSETFROM:-0600
TZOFFSETTO:-0500
TZNAME:CDT
DTSTART:20260308T080000
END:DAYLIGHT
BEGIN:STANDARD
TZOFFSETFROM:-0500
TZOFFSETTO:-0600
TZNAME:CST
DTSTART:20261101T070000
END:STANDARD
BEGIN:DAYLIGHT
TZOFFSETFROM:-0600
TZOFFSETTO:-0500
TZNAME:CDT
DTSTART:20270314T080000
END:DAYLIGHT
BEGIN:STANDARD
TZOFFSETFROM:-0500
TZOFFSETTO:-0600
TZNAME:CST
DTSTART:20271107T070000
END:STANDARD
END:VTIMEZONE
BEGIN:VEVENT
DTSTART;TZID=America/Chicago:20261004T080000
DTEND;TZID=America/Chicago:20261004T140000
DTSTAMP:20260421T172833
CREATED:20221121T060310Z
LAST-MODIFIED:20251117T082211Z
UID:461-1791100800-1791122400@illinoisstatearchaeologicalsociety.com
SUMMARY:Yorkville Artifact Show
DESCRIPTION:A great show located in the Fox River valley.  The show is Set up by invitation Only. Set up will be around 7:00 AM Sunday October 4th. Free admission for information contact show host Tristen Arnold (779) 279-4120.
URL:https://illinoisstatearchaeologicalsociety.com/event/yorkville-artifact-show-2/
LOCATION:American Legion Post 489\, 9054 route 34\, Yorkville\, IL\, 60560\, United States
END:VEVENT
END:VCALENDAR